BEGIN:VCALENDAR
VERSION:2.0
PRODID:-//eventon.com NONSGML v1.0//EN
CALSCALE:GREGORIAN
METHOD:PUBLISH
BEGIN:VEVENT
UID:69ebc91a08070
DTSTAMP:20260424T194842Z
DTSTART:20250909
DTEND:20250910
LOCATION:
SUMMARY:District Athletics
DESCRIPTION:District Athletics\nhttps://bayswaternorth.vic.edu.au/events/di
 strict-athletics-2/
URL:https://bayswaternorth.vic.edu.au/events/district-athletics-2/
END:VEVENT
END:VCALENDAR